BEGIN:VCALENDAR
VERSION:2.0
PRODID:-//KickBack - ECPv6.15.20//NONSGML v1.0//EN
CALSCALE:GREGORIAN
METHOD:PUBLISH
X-ORIGINAL-URL:https://kickbackbandtoronto.com
X-WR-CALDESC:Events for KickBack
REFRESH-INTERVAL;VALUE=DURATION:PT1H
X-Robots-Tag:noindex
X-PUBLISHED-TTL:PT1H
BEGIN:VTIMEZONE
TZID:America/Toronto
BEGIN:DAYLIGHT
TZOFFSETFROM:-0500
TZOFFSETTO:-0400
TZNAME:EDT
DTSTART:20180311T070000
END:DAYLIGHT
BEGIN:STANDARD
TZOFFSETFROM:-0400
TZOFFSETTO:-0500
TZNAME:EST
DTSTART:20181104T060000
END:STANDARD
BEGIN:DAYLIGHT
TZOFFSETFROM:-0500
TZOFFSETTO:-0400
TZNAME:EDT
DTSTART:20190310T070000
END:DAYLIGHT
BEGIN:STANDARD
TZOFFSETFROM:-0400
TZOFFSETTO:-0500
TZNAME:EST
DTSTART:20191103T060000
END:STANDARD
BEGIN:DAYLIGHT
TZOFFSETFROM:-0500
TZOFFSETTO:-0400
TZNAME:EDT
DTSTART:20200308T070000
END:DAYLIGHT
BEGIN:STANDARD
TZOFFSETFROM:-0400
TZOFFSETTO:-0500
TZNAME:EST
DTSTART:20201101T060000
END:STANDARD
BEGIN:DAYLIGHT
TZOFFSETFROM:-0500
TZOFFSETTO:-0400
TZNAME:EDT
DTSTART:20210314T070000
END:DAYLIGHT
BEGIN:STANDARD
TZOFFSETFROM:-0400
TZOFFSETTO:-0500
TZNAME:EST
DTSTART:20211107T060000
END:STANDARD
BEGIN:DAYLIGHT
TZOFFSETFROM:-0500
TZOFFSETTO:-0400
TZNAME:EDT
DTSTART:20220313T070000
END:DAYLIGHT
BEGIN:STANDARD
TZOFFSETFROM:-0400
TZOFFSETTO:-0500
TZNAME:EST
DTSTART:20221106T060000
END:STANDARD
BEGIN:DAYLIGHT
TZOFFSETFROM:-0500
TZOFFSETTO:-0400
TZNAME:EDT
DTSTART:20230312T070000
END:DAYLIGHT
BEGIN:STANDARD
TZOFFSETFROM:-0400
TZOFFSETTO:-0500
TZNAME:EST
DTSTART:20231105T060000
END:STANDARD
BEGIN:DAYLIGHT
TZOFFSETFROM:-0500
TZOFFSETTO:-0400
TZNAME:EDT
DTSTART:20240310T070000
END:DAYLIGHT
BEGIN:STANDARD
TZOFFSETFROM:-0400
TZOFFSETTO:-0500
TZNAME:EST
DTSTART:20241103T060000
END:STANDARD
END:VTIMEZONE
BEGIN:VEVENT
DTSTART;TZID=America/Toronto:20230317T190000
DTEND;TZID=America/Toronto:20230317T190000
DTSTAMP:20260424T180227
CREATED:20230210T235434Z
LAST-MODIFIED:20230227T214910Z
UID:825-1679079600-1679079600@kickbackbandtoronto.com
SUMMARY:Dominion Pub and Kitchen
DESCRIPTION:
URL:https://kickbackbandtoronto.com/event/dominion-pub-and-kitchen/
LOCATION:Dominion Pub and Kitchen\, 500 Queen St East Toronto\, ON\, Toronto\, Ontario\, M5A 1T7\, Canada
END:VEVENT
BEGIN:VEVENT
DTSTART;TZID=America/Toronto:20220813T210000
DTEND;TZID=America/Toronto:20220813T210000
DTSTAMP:20260424T180227
CREATED:20190209T020741Z
LAST-MODIFIED:20220704T120530Z
UID:506-1660424400-1660424400@kickbackbandtoronto.com
SUMMARY:Dakota's Sports Bar and Grill
DESCRIPTION:
URL:https://kickbackbandtoronto.com/event/dakotas-sports-bar-and-grill-2/
LOCATION:Dakota’s sports bar\, 2814 Lake Shore Boulevard\, West\, Etobicoke\, Ontario\, M8V1H7\, Canada
END:VEVENT
BEGIN:VEVENT
DTSTART;TZID=America/Toronto:20211119T220000
DTEND;TZID=America/Toronto:20211120T220000
DTSTAMP:20260424T180227
CREATED:20200215T002440Z
LAST-MODIFIED:20210827T131406Z
UID:705-1637359200-1637445600@kickbackbandtoronto.com
SUMMARY:Grace O'Malley's double gig weekend
DESCRIPTION:
URL:https://kickbackbandtoronto.com/event/grace-omalleys-double-gig-weekend-4/
LOCATION:Grace omalleys\, 14 Duncan St\, Toronto\, Ontario\, M5H 3G8\, Canada
END:VEVENT
BEGIN:VEVENT
DTSTART;TZID=America/Toronto:20200328T213000
DTEND;TZID=America/Toronto:20200328T213000
DTSTAMP:20260424T180227
CREATED:20190801T115418Z
LAST-MODIFIED:20200125T181706Z
UID:672-1585431000-1585431000@kickbackbandtoronto.com
SUMMARY:The Goose-Firkin Pub
DESCRIPTION:
URL:https://kickbackbandtoronto.com/event/the-goose/
LOCATION:The Goose\, 1875 Leslie St.\, North York\, Ontario\, m3b2m5\, Canada
END:VEVENT
BEGIN:VEVENT
DTSTART;TZID=America/Toronto:20200215T213000
DTEND;TZID=America/Toronto:20200215T213000
DTSTAMP:20260424T180227
CREATED:20190827T231951Z
LAST-MODIFIED:20200125T181555Z
UID:684-1581802200-1581802200@kickbackbandtoronto.com
SUMMARY:The Goose- Firkin Pub
DESCRIPTION:
URL:https://kickbackbandtoronto.com/event/the-goose-firkin-pub/
LOCATION:The Goose\, 1875 Leslie St.\, North York\, Ontario\, m3b2m5\, Canada
END:VEVENT
BEGIN:VEVENT
DTSTART;TZID=America/Toronto:20191207T213000
DTEND;TZID=America/Toronto:20191207T213000
DTSTAMP:20260424T180227
CREATED:20190827T231645Z
LAST-MODIFIED:20191106T230440Z
UID:681-1575754200-1575754200@kickbackbandtoronto.com
SUMMARY:The Quail-Firkin Pub
DESCRIPTION:
URL:https://kickbackbandtoronto.com/event/the-quail-firkin-pub/
LOCATION:The Quail\, 1055 Yonge St\, Toronto\, Ontario\, M4W 2L2\, Canada
END:VEVENT
BEGIN:VEVENT
DTSTART;TZID=America/Toronto:20190907T213000
DTEND;TZID=America/Toronto:20190907T213000
DTSTAMP:20260424T180227
CREATED:20190226T124947Z
LAST-MODIFIED:20190831T144414Z
UID:659-1567891800-1567891800@kickbackbandtoronto.com
SUMMARY:The Quail-Firkin Pub
DESCRIPTION:
URL:https://kickbackbandtoronto.com/event/the-quail/
LOCATION:The Quail\, 1055 Yonge St\, Toronto\, Ontario\, M4W 2L2\, Canada
END:VEVENT
BEGIN:VEVENT
DTSTART;TZID=America/Toronto:20190824T220000
DTEND;TZID=America/Toronto:20190824T220000
DTSTAMP:20260424T180227
CREATED:20190802T140524Z
LAST-MODIFIED:20190819T173833Z
UID:675-1566684000-1566684000@kickbackbandtoronto.com
SUMMARY:Bier Markt The Esplanade
DESCRIPTION:
URL:https://kickbackbandtoronto.com/event/bier-markt-the-esplanade/
LOCATION:Ontario
END:VEVENT
BEGIN:VEVENT
DTSTART;TZID=America/Toronto:20190525T213000
DTEND;TZID=America/Toronto:20190525T213000
DTSTAMP:20260424T180227
CREATED:20190413T142548Z
LAST-MODIFIED:20190413T142548Z
UID:665-1558819800-1558819800@kickbackbandtoronto.com
SUMMARY:The Firkin on Bay
DESCRIPTION:
URL:https://kickbackbandtoronto.com/event/the-firkin-on-bay/
LOCATION:Firkin on Bay\, 1075 Bay St\, Toronto\, Ontario\, M5S 2B1\, Canada
END:VEVENT
BEGIN:VEVENT
DTSTART;TZID=America/Toronto:20190504T213000
DTEND;TZID=America/Toronto:20190504T213000
DTSTAMP:20260424T180227
CREATED:20170116T014259Z
LAST-MODIFIED:20190222T125417Z
UID:322-1557005400-1557005400@kickbackbandtoronto.com
SUMMARY:Pipes & Taps Pub
DESCRIPTION:
URL:https://kickbackbandtoronto.com/event/pipes-taps-pub/
LOCATION:Pipes & Taps\, 231 Oakpark Bvld\, Oakville\, Ont\, Canada
END:VEVENT
END:VCALENDAR