BEGIN:VCALENDAR
VERSION:2.0
PRODID:-//KickBack - ECPv6.15.20//NONSGML v1.0//EN
CALSCALE:GREGORIAN
METHOD:PUBLISH
X-ORIGINAL-URL:https://kickbackbandtoronto.com
X-WR-CALDESC:Events for KickBack
REFRESH-INTERVAL;VALUE=DURATION:PT1H
X-Robots-Tag:noindex
X-PUBLISHED-TTL:PT1H
BEGIN:VTIMEZONE
TZID:America/Toronto
BEGIN:DAYLIGHT
TZOFFSETFROM:-0500
TZOFFSETTO:-0400
TZNAME:EDT
DTSTART:20220313T070000
END:DAYLIGHT
BEGIN:STANDARD
TZOFFSETFROM:-0400
TZOFFSETTO:-0500
TZNAME:EST
DTSTART:20221106T060000
END:STANDARD
BEGIN:DAYLIGHT
TZOFFSETFROM:-0500
TZOFFSETTO:-0400
TZNAME:EDT
DTSTART:20230312T070000
END:DAYLIGHT
BEGIN:STANDARD
TZOFFSETFROM:-0400
TZOFFSETTO:-0500
TZNAME:EST
DTSTART:20231105T060000
END:STANDARD
BEGIN:DAYLIGHT
TZOFFSETFROM:-0500
TZOFFSETTO:-0400
TZNAME:EDT
DTSTART:20240310T070000
END:DAYLIGHT
BEGIN:STANDARD
TZOFFSETFROM:-0400
TZOFFSETTO:-0500
TZNAME:EST
DTSTART:20241103T060000
END:STANDARD
BEGIN:DAYLIGHT
TZOFFSETFROM:-0500
TZOFFSETTO:-0400
TZNAME:EDT
DTSTART:20250309T070000
END:DAYLIGHT
BEGIN:STANDARD
TZOFFSETFROM:-0400
TZOFFSETTO:-0500
TZNAME:EST
DTSTART:20251102T060000
END:STANDARD
BEGIN:DAYLIGHT
TZOFFSETFROM:-0500
TZOFFSETTO:-0400
TZNAME:EDT
DTSTART:20260308T070000
END:DAYLIGHT
BEGIN:STANDARD
TZOFFSETFROM:-0400
TZOFFSETTO:-0500
TZNAME:EST
DTSTART:20261101T060000
END:STANDARD
BEGIN:DAYLIGHT
TZOFFSETFROM:-0500
TZOFFSETTO:-0400
TZNAME:EDT
DTSTART:20270314T070000
END:DAYLIGHT
BEGIN:STANDARD
TZOFFSETFROM:-0400
TZOFFSETTO:-0500
TZNAME:EST
DTSTART:20271107T060000
END:STANDARD
END:VTIMEZONE
BEGIN:VEVENT
DTSTART;TZID=America/Toronto:20260411T200000
DTEND;TZID=America/Toronto:20260411T200000
DTSTAMP:20260424T112828
CREATED:20260219T142338Z
LAST-MODIFIED:20260219T142338Z
UID:1048-1775937600-1775937600@kickbackbandtoronto.com
SUMMARY:The Donegal Arms
DESCRIPTION:
URL:https://kickbackbandtoronto.com/event/the-donegal-arms/
LOCATION:The Donegal Arms\, 136 Lakeshore Rd E\, Mississauga\, Ontario\, L5G 3E8\, Canada
END:VEVENT
BEGIN:VEVENT
DTSTART;TZID=America/Toronto:20260328T193000
DTEND;TZID=America/Toronto:20260328T233000
DTSTAMP:20260424T112828
CREATED:20260103T204406Z
LAST-MODIFIED:20260103T204635Z
UID:1043-1774726200-1774740600@kickbackbandtoronto.com
SUMMARY:Royal Canadian Legion Oshawa #43
DESCRIPTION:
URL:https://kickbackbandtoronto.com/event/royal-canadian-legion-oshawa-43/
LOCATION:RCL Oshawa #43\, 471 Simcoe St South\, Oshawa\, Ontario\, L1H 4J7\, Canada
END:VEVENT
BEGIN:VEVENT
DTSTART;TZID=America/Toronto:20260314T210000
DTEND;TZID=America/Toronto:20260314T210000
DTSTAMP:20260424T112828
CREATED:20230704T162220Z
LAST-MODIFIED:20260213T205545Z
UID:861-1773522000-1773522000@kickbackbandtoronto.com
SUMMARY:Black Dog Pub
DESCRIPTION:
URL:https://kickbackbandtoronto.com/event/black-dog-pub/
LOCATION:Black Dog Pub\, 87 Island Road\, Scarborough\, Ontario\, M1C 2P6\, Canada
END:VEVENT
BEGIN:VEVENT
DTSTART;TZID=America/Toronto:20260306T213000
DTEND;TZID=America/Toronto:20260306T213000
DTSTAMP:20260424T112828
CREATED:20240115T213459Z
LAST-MODIFIED:20251128T171556Z
UID:921-1772832600-1772832600@kickbackbandtoronto.com
SUMMARY:PJ O'Brien Irish Pub
DESCRIPTION:
URL:https://kickbackbandtoronto.com/event/pj-obrien-irish-pub-4/
LOCATION:PJ O’Brien\, 39 Colborne Street\,\, Toronto\, Ontario\, M5E 1E3\, Canada
END:VEVENT
BEGIN:VEVENT
DTSTART;TZID=America/Toronto:20260214T193000
DTEND;TZID=America/Toronto:20260214T193000
DTSTAMP:20260424T112828
CREATED:20251128T171435Z
LAST-MODIFIED:20260201T195553Z
UID:1030-1771097400-1771097400@kickbackbandtoronto.com
SUMMARY:The Galway Arms
DESCRIPTION:
URL:https://kickbackbandtoronto.com/event/the-galway-arms/
LOCATION:The Galway Arms\, 838 The Queensway\, Etobicke\, Ontario\, M8Z 1N7\, Canada
END:VEVENT
BEGIN:VEVENT
DTSTART;TZID=America/Toronto:20260131T213000
DTEND;TZID=America/Toronto:20260131T213000
DTSTAMP:20260424T112828
CREATED:20251211T183657Z
LAST-MODIFIED:20251211T183657Z
UID:1038-1769895000-1769895000@kickbackbandtoronto.com
SUMMARY:PJ O'Brien Irish Pub
DESCRIPTION:
URL:https://kickbackbandtoronto.com/event/pj-obrien-irish-pub-9/
LOCATION:Onrario
END:VEVENT
BEGIN:VEVENT
DTSTART;TZID=America/Toronto:20260117T190000
DTEND;TZID=America/Toronto:20260117T190000
DTSTAMP:20260424T112828
CREATED:20250321T210223Z
LAST-MODIFIED:20251128T171128Z
UID:1008-1768676400-1768676400@kickbackbandtoronto.com
SUMMARY:Royal Canadian Legion Highland Creek # 258
DESCRIPTION:
URL:https://kickbackbandtoronto.com/event/royal-canadian-legion-highland-creek-258/
LOCATION:RCL 258\, 305 Morrish Road\, Toronto\, Ontario\, M1C 1E9\, Canada
END:VEVENT
BEGIN:VEVENT
DTSTART;TZID=America/Toronto:20251227T213000
DTEND;TZID=America/Toronto:20251227T213000
DTSTAMP:20260424T112828
CREATED:20251203T170832Z
LAST-MODIFIED:20251203T170855Z
UID:1035-1766871000-1766871000@kickbackbandtoronto.com
SUMMARY:PJ O’Brien Irish Pub
DESCRIPTION:
URL:https://kickbackbandtoronto.com/event/pj-obrien-irish-pub-8/
LOCATION:PJ O’Brien\, 39 Colborne Street\,\, Toronto\, Ontario\, M5E 1E3\, Canada
END:VEVENT
BEGIN:VEVENT
DTSTART;TZID=America/Toronto:20251214T140000
DTEND;TZID=America/Toronto:20251214T180000
DTSTAMP:20260424T112828
CREATED:20250528T160150Z
LAST-MODIFIED:20250528T160243Z
UID:1023-1765720800-1765735200@kickbackbandtoronto.com
SUMMARY:Royal Canadian Legion Ajax #322
DESCRIPTION:
URL:https://kickbackbandtoronto.com/event/royal-canadian-legion-ajax-322-2/
LOCATION:Ajax Legion #322\, 111 Hunt Street\, Ajax\, Ontario\, Canada
END:VEVENT
BEGIN:VEVENT
DTSTART;TZID=America/Toronto:20251206T213000
DTEND;TZID=America/Toronto:20251206T213000
DTSTAMP:20260424T112828
CREATED:20250212T153907Z
LAST-MODIFIED:20250212T153930Z
UID:976-1765056600-1765056600@kickbackbandtoronto.com
SUMMARY:PJ O'Brien Irish Pub
DESCRIPTION:
URL:https://kickbackbandtoronto.com/event/pj-obrien-irish-pub-6/
LOCATION:PJ O’Brien\, 39 Colborne Street\,\, Toronto\, Ontario\, M5E 1E3\, Canada
END:VEVENT
BEGIN:VEVENT
DTSTART;TZID=America/Toronto:20251031T200000
DTEND;TZID=America/Toronto:20251031T200000
DTSTAMP:20260424T112828
CREATED:20250212T153627Z
LAST-MODIFIED:20250212T153627Z
UID:972-1761940800-1761940800@kickbackbandtoronto.com
SUMMARY:The Dogfish Pub & Eatery
DESCRIPTION:
URL:https://kickbackbandtoronto.com/event/the-dogfish-pub-eatery-3/
LOCATION:Dogfish Pub\, 7 Brimley Rd\, Scarborough\, Ontario\, M1M 3W3\, Canada
END:VEVENT
BEGIN:VEVENT
DTSTART;TZID=America/Toronto:20251004T200000
DTEND;TZID=America/Toronto:20251004T200000
DTSTAMP:20260424T112828
CREATED:20160327T005737Z
LAST-MODIFIED:20250903T130721Z
UID:262-1759608000-1759608000@kickbackbandtoronto.com
SUMMARY:The Tara Inn Pub
DESCRIPTION:
URL:https://kickbackbandtoronto.com/event/tara-inn-pub/
LOCATION:Tara Inn\, 2365 Kingston Rd\,\, Scarborough\, ON\, M1N 1V1\, Canada
END:VEVENT
BEGIN:VEVENT
DTSTART;TZID=America/Toronto:20250921T140000
DTEND;TZID=America/Toronto:20250921T180000
DTSTAMP:20260424T112828
CREATED:20250528T160104Z
LAST-MODIFIED:20250528T160104Z
UID:1020-1758463200-1758477600@kickbackbandtoronto.com
SUMMARY:Royal Canadian Legion Ajax #322
DESCRIPTION:
URL:https://kickbackbandtoronto.com/event/royal-canadian-legion-ajax-322/
LOCATION:Ajax Legion #322\, 111 Hunt Street\, Ajax\, Ontario\, Canada
END:VEVENT
BEGIN:VEVENT
DTSTART;TZID=America/Toronto:20250725T200000
DTEND;TZID=America/Toronto:20250725T200000
DTSTAMP:20260424T112828
CREATED:20250212T153403Z
LAST-MODIFIED:20250212T153403Z
UID:970-1753473600-1753473600@kickbackbandtoronto.com
SUMMARY:The Dogfish Pub & Eatery
DESCRIPTION:
URL:https://kickbackbandtoronto.com/event/the-dogfish-pub-eatery-2/
LOCATION:Dogfish Pub\, 7 Brimley Rd\, Scarborough\, Ontario\, M1M 3W3\, Canada
END:VEVENT
BEGIN:VEVENT
DTSTART;TZID=America/Toronto:20250607T213000
DTEND;TZID=America/Toronto:20250607T213000
DTSTAMP:20260424T112828
CREATED:20180814T114832Z
LAST-MODIFIED:20250603T182535Z
UID:482-1749331800-1749331800@kickbackbandtoronto.com
SUMMARY:Private Party
DESCRIPTION:
URL:https://kickbackbandtoronto.com/event/pj-obrien-irish-pub/
LOCATION:Onrario
END:VEVENT
BEGIN:VEVENT
DTSTART;TZID=America/Toronto:20250524T200000
DTEND;TZID=America/Toronto:20250524T200000
DTSTAMP:20260424T112828
CREATED:20250212T140906Z
LAST-MODIFIED:20250212T140906Z
UID:967-1748116800-1748116800@kickbackbandtoronto.com
SUMMARY:The Dogfish Pub & Eatery
DESCRIPTION:
URL:https://kickbackbandtoronto.com/event/the-dogfish-pub-eatery/
LOCATION:Dogfish Pub\, 7 Brimley Rd\, Scarborough\, Ontario\, M1M 3W3\, Canada
END:VEVENT
BEGIN:VEVENT
DTSTART;TZID=America/Toronto:20250510T200000
DTEND;TZID=America/Toronto:20250510T200000
DTSTAMP:20260424T112828
CREATED:20180501T143535Z
LAST-MODIFIED:20250212T140325Z
UID:469-1746907200-1746907200@kickbackbandtoronto.com
SUMMARY:The Tara Inn Pub
DESCRIPTION:
URL:https://kickbackbandtoronto.com/event/the-tara-inn-pub/
LOCATION:Tara Inn\, 2365 Kingston Rd\,\, Scarborough\, ON\, M1N 1V1\, Canada
END:VEVENT
BEGIN:VEVENT
DTSTART;TZID=America/Toronto:20250412T210000
DTEND;TZID=America/Toronto:20250412T210000
DTSTAMP:20260424T112828
CREATED:20230207T012030Z
LAST-MODIFIED:20250212T135625Z
UID:821-1744491600-1744491600@kickbackbandtoronto.com
SUMMARY:The Irish Rose Pub
DESCRIPTION:
URL:https://kickbackbandtoronto.com/event/the-irish-rose-pub/
LOCATION:The Irish Rose Pub\, 1095 Weston Rd\, Toronto\, Ontario\, Canada
END:VEVENT
BEGIN:VEVENT
DTSTART;TZID=America/Toronto:20250315T210000
DTEND;TZID=America/Toronto:20250315T210000
DTSTAMP:20260424T112828
CREATED:20240315T155256Z
LAST-MODIFIED:20250120T220527Z
UID:936-1742072400-1742072400@kickbackbandtoronto.com
SUMMARY:Black Dog Pub
DESCRIPTION:
URL:https://kickbackbandtoronto.com/event/black-dog-pub-2/
LOCATION:Black Dog Pub\, 87 Island Road\, Scarborough\, Ontario\, M1C 2P6\, Canada
END:VEVENT
BEGIN:VEVENT
DTSTART;TZID=America/Toronto:20241227T210000
DTEND;TZID=America/Toronto:20241227T210000
DTSTAMP:20260424T112828
CREATED:20240801T174300Z
LAST-MODIFIED:20241222T200951Z
UID:947-1735333200-1735333200@kickbackbandtoronto.com
SUMMARY:Fionn MacCool's Richmond Hill
DESCRIPTION:
URL:https://kickbackbandtoronto.com/event/fionn-maccools-richmond-hill/
LOCATION:Fionn MacCool’s Richmond Hill\, 125 York Blvd\, Richmond Hill\, ON\, L4B 3J6\, Canada
END:VEVENT
BEGIN:VEVENT
DTSTART;TZID=America/Toronto:20240927T210000
DTEND;TZID=America/Toronto:20240927T210000
DTSTAMP:20260424T112828
CREATED:20240924T165711Z
LAST-MODIFIED:20240924T165711Z
UID:955-1727470800-1727470800@kickbackbandtoronto.com
SUMMARY:Fionn MacCool's Woodbridge
DESCRIPTION:
URL:https://kickbackbandtoronto.com/event/fionn-maccools-woodbridge/
LOCATION:Fionn MacCools’s Woodbridge\, 6110 Hwy 7\, Woodbridge\, ontario\, L4H 0R2\, Canada
END:VEVENT
BEGIN:VEVENT
DTSTART;TZID=America/Toronto:20240809T200000
DTEND;TZID=America/Toronto:20240809T200000
DTSTAMP:20260424T112828
CREATED:20240710T215038Z
LAST-MODIFIED:20240801T172953Z
UID:943-1723233600-1723233600@kickbackbandtoronto.com
SUMMARY:Long Branch Social House
DESCRIPTION:
URL:https://kickbackbandtoronto.com/event/long-branch-social-house/
LOCATION:Long Branch Social\, 3595 LAKESHORE BLVD West\, Etobicoke\, Ontario\, M8W 1P5\, Canada
END:VEVENT
BEGIN:VEVENT
DTSTART;TZID=America/Toronto:20240727T200000
DTEND;TZID=America/Toronto:20240727T200000
DTSTAMP:20260424T112828
CREATED:20230911T143953Z
LAST-MODIFIED:20240503T142739Z
UID:895-1722110400-1722110400@kickbackbandtoronto.com
SUMMARY:Royal Canadian Legion Port Credit #82
DESCRIPTION:
URL:https://kickbackbandtoronto.com/event/royal-canadian-legion-branch-82-2/
LOCATION:Royal Canadian Legion Branch #82\, 35 Front Street North\, Mississauga\, Ontario\, L5H 2E1\, Canada
END:VEVENT
BEGIN:VEVENT
DTSTART;TZID=America/Toronto:20240705T210000
DTEND;TZID=America/Toronto:20240705T210000
DTSTAMP:20260424T112828
CREATED:20240311T134646Z
LAST-MODIFIED:20240311T134646Z
UID:934-1720213200-1720213200@kickbackbandtoronto.com
SUMMARY:The Irish Shebeen
DESCRIPTION:
URL:https://kickbackbandtoronto.com/event/the-irish-shebeen-2/
LOCATION:The Irish Shebeen\, 5555 Eglinton Ave W\, Etobicoke\, Ontario\, M9C5M1\, Canada
END:VEVENT
BEGIN:VEVENT
DTSTART;TZID=America/Toronto:20240622T210000
DTEND;TZID=America/Toronto:20240622T210000
DTSTAMP:20260424T112828
CREATED:20230529T162540Z
LAST-MODIFIED:20240115T213816Z
UID:853-1719090000-1719090000@kickbackbandtoronto.com
SUMMARY:The Swan-A Firkin Pub
DESCRIPTION:
URL:https://kickbackbandtoronto.com/event/the-squire-a-firkin-pub/
LOCATION:The Swan- Firkin Pub\, 2205 Bloor Street West\, Toronto\, Ontario\, M6S 1N5\, Canada
END:VEVENT
BEGIN:VEVENT
DTSTART;TZID=America/Toronto:20240511T210000
DTEND;TZID=America/Toronto:20240511T210000
DTSTAMP:20260424T112828
CREATED:20231229T163247Z
LAST-MODIFIED:20240115T215537Z
UID:917-1715461200-1715461200@kickbackbandtoronto.com
SUMMARY:The Irish Shebeen
DESCRIPTION:
URL:https://kickbackbandtoronto.com/event/the-irish-shebeen/
LOCATION:The Irish Shebeen\, 5555 Eglinton Ave W\, Etobicoke\, Ontario\, M9C5M1\, Canada
ATTACH;FMTTYPE=image/jpeg:https://kickbackbandtoronto.com/wp-content/uploads/2019/02/alchemy2.jpg
END:VEVENT
BEGIN:VEVENT
DTSTART;TZID=America/Toronto:20240323T210000
DTEND;TZID=America/Toronto:20240323T210000
DTSTAMP:20260424T112828
CREATED:20230704T163518Z
LAST-MODIFIED:20231229T161923Z
UID:870-1711227600-1711227600@kickbackbandtoronto.com
SUMMARY:The Swan-A Firkin Pub
DESCRIPTION:
URL:https://kickbackbandtoronto.com/event/the-swan-a-firkin-pub/
LOCATION:The Swan- Firkin Pub\, 2205 Bloor Street West\, Toronto\, Ontario\, M6S 1N5\, Canada
END:VEVENT
BEGIN:VEVENT
DTSTART;TZID=America/Toronto:20231230T210000
DTEND;TZID=America/Toronto:20231230T210000
DTSTAMP:20260424T112828
CREATED:20220803T013459Z
LAST-MODIFIED:20231024T002307Z
UID:791-1703970000-1703970000@kickbackbandtoronto.com
SUMMARY:Dakota's Sports Bar and Grill
DESCRIPTION:
URL:https://kickbackbandtoronto.com/event/dakotas-sports-bar-and-grill/
LOCATION:Dakota’s sports bar\, 2814 Lake Shore Boulevard\, West\, Etobicoke\, Ontario\, M8V1H7\, Canada
END:VEVENT
BEGIN:VEVENT
DTSTART;TZID=America/Toronto:20231220T190000
DTEND;TZID=America/Toronto:20231220T230000
DTSTAMP:20260424T112828
CREATED:20231110T162236Z
LAST-MODIFIED:20231110T162236Z
UID:912-1703098800-1703113200@kickbackbandtoronto.com
SUMMARY:Royal Canadian Legion Long Branch #101
DESCRIPTION:
URL:https://kickbackbandtoronto.com/event/royal-canadian-legion-long-branch-101/
LOCATION:RCL Log Branch #101\, 3850 Lakeshore Blvd. West\, Toronto\, Ontario\, M8W 1R3\, Canada
END:VEVENT
BEGIN:VEVENT
DTSTART;TZID=America/Toronto:20230923T200000
DTEND;TZID=America/Toronto:20230923T200000
DTSTAMP:20260424T112828
CREATED:20230911T143827Z
LAST-MODIFIED:20230911T143827Z
UID:891-1695499200-1695499200@kickbackbandtoronto.com
SUMMARY:Royal Canadian Legion Branch #82
DESCRIPTION:
URL:https://kickbackbandtoronto.com/event/royal-canadian-legion-branch-82/
LOCATION:Royal Canadian Legion Branch #82\, 35 Front Street North\, Mississauga\, Ontario\, L5H 2E1\, Canada
END:VEVENT
END:VCALENDAR